BEGIN:VCALENDAR
VERSION:2.0
PRODID:-//Park City Brewing - ECPv6.6.4.2//NONSGML v1.0//EN
CALSCALE:GREGORIAN
METHOD:PUBLISH
X-WR-CALNAME:Park City Brewing
X-ORIGINAL-URL:https://parkcitybrewing.com
X-WR-CALDESC:Events for Park City Brewing
REFRESH-INTERVAL;VALUE=DURATION:PT1H
X-Robots-Tag:noindex
X-PUBLISHED-TTL:PT1H
BEGIN:VTIMEZONE
TZID:UTC
BEGIN:STANDARD
TZOFFSETFROM:+0000
TZOFFSETTO:+0000
TZNAME:UTC
DTSTART:20250101T000000
END:STANDARD
END:VTIMEZONE
BEGIN:VEVENT
DTSTART;TZID=UTC:20251223T183000
DTEND;TZID=UTC:20251223T210000
DTSTAMP:20260420T092900
CREATED:20251203T202724Z
LAST-MODIFIED:20251203T202724Z
UID:940-1766514600-1766523600@parkcitybrewing.com
SUMMARY:TRIVIA TUESDAYS!
DESCRIPTION:TRIVIA TUESDAYS!
URL:https://parkcitybrewing.com/event/trivia-tuesdays-2/
LOCATION:Park City Brewing\, 1764 Uinta Way C1\, Park City\, UT\, 84098
ATTACH;FMTTYPE=image/png:https://parkcitybrewing.com/wp-content/uploads/2025/04/PCB-TRIVIA-NIGHT-FBGRAPHIC-FEB-25-1.png
END:VEVENT
BEGIN:VEVENT
DTSTART;TZID=UTC:20251222T180000
DTEND;TZID=UTC:20251222T210000
DTSTAMP:20260420T092900
CREATED:20251203T202234Z
LAST-MODIFIED:20251203T202508Z
UID:937-1766426400-1766437200@parkcitybrewing.com
SUMMARY:MONDAY NIGHT FOOTBALL
DESCRIPTION:MONDAY NIGHT FOOTBALL
URL:https://parkcitybrewing.com/event/monday-night-football-7/
LOCATION:Park City Brewing\, 1764 Uinta Way C1\, Park City\, UT\, 84098
ATTACH;FMTTYPE=image/png:https://parkcitybrewing.com/wp-content/uploads/2025/11/MONDAY-NIGHT-FOOTBALL.png
END:VEVENT
BEGIN:VEVENT
DTSTART;TZID=UTC:20251217T183000
DTEND;TZID=UTC:20251217T210000
DTSTAMP:20260420T092900
CREATED:20251203T201703Z
LAST-MODIFIED:20251203T201703Z
UID:931-1765996200-1766005200@parkcitybrewing.com
SUMMARY:SHRED NIGHT W/ HOLISTIC SPIRITS!
DESCRIPTION:SHRED NIGHT W/ HOLISTIC SPIRITS!
URL:https://parkcitybrewing.com/event/shred-night-w-holistic-spirits-3/
LOCATION:Park City Brewing\, 1764 Uinta Way C1\, Park City\, UT\, 84098
ATTACH;FMTTYPE=image/png:https://parkcitybrewing.com/wp-content/uploads/2025/12/SHRED-NIGHTS-Presentation.png
END:VEVENT
BEGIN:VEVENT
DTSTART;TZID=UTC:20251216T183000
DTEND;TZID=UTC:20251216T210000
DTSTAMP:20260420T092900
CREATED:20251203T201859Z
LAST-MODIFIED:20251203T202548Z
UID:934-1765909800-1765918800@parkcitybrewing.com
SUMMARY:TRIVIA TUESDAYS!
DESCRIPTION:TRIVIA TUESDAYS!
URL:https://parkcitybrewing.com/event/monday-night-football-5/
LOCATION:Park City Brewing\, 1764 Uinta Way C1\, Park City\, UT\, 84098
ATTACH;FMTTYPE=image/png:https://parkcitybrewing.com/wp-content/uploads/2025/04/PCB-TRIVIA-NIGHT-FBGRAPHIC-FEB-25-1.png
END:VEVENT
BEGIN:VEVENT
DTSTART;TZID=UTC:20251215T180000
DTEND;TZID=UTC:20251215T210000
DTSTAMP:20260420T092900
CREATED:20251203T201957Z
LAST-MODIFIED:20251203T202516Z
UID:936-1765821600-1765832400@parkcitybrewing.com
SUMMARY:MONDAY NIGHT FOOTBALL
DESCRIPTION:MONDAY NIGHT FOOTBALL
URL:https://parkcitybrewing.com/event/monday-night-football-6/
LOCATION:Park City Brewing\, 1764 Uinta Way C1\, Park City\, UT\, 84098
ATTACH;FMTTYPE=image/png:https://parkcitybrewing.com/wp-content/uploads/2025/11/MONDAY-NIGHT-FOOTBALL.png
END:VEVENT
BEGIN:VEVENT
DTSTART;TZID=UTC:20251210T183000
DTEND;TZID=UTC:20251210T210000
DTSTAMP:20260420T092900
CREATED:20251203T201531Z
LAST-MODIFIED:20251203T201531Z
UID:930-1765391400-1765400400@parkcitybrewing.com
SUMMARY:SHRED NIGHT W/ HOLISTIC SPIRITS!
DESCRIPTION:SHRED NIGHT W/ HOLISTIC SPIRITS!
URL:https://parkcitybrewing.com/event/shred-night-w-holistic-spirits-2/
LOCATION:Park City Brewing\, 1764 Uinta Way C1\, Park City\, UT\, 84098
ATTACH;FMTTYPE=image/png:https://parkcitybrewing.com/wp-content/uploads/2025/12/SHRED-NIGHTS-Presentation.png
END:VEVENT
BEGIN:VEVENT
DTSTART;TZID=UTC:20251209T183000
DTEND;TZID=UTC:20251209T210000
DTSTAMP:20260420T092900
CREATED:20251203T202404Z
LAST-MODIFIED:20251203T202404Z
UID:939-1765305000-1765314000@parkcitybrewing.com
SUMMARY:TRIVIA TUESDAYS!
DESCRIPTION:TRIVIA TUESDAYS!
URL:https://parkcitybrewing.com/event/trivia-tuesdays/
LOCATION:Park City Brewing\, 1764 Uinta Way C1\, Park City\, UT\, 84098
ATTACH;FMTTYPE=image/png:https://parkcitybrewing.com/wp-content/uploads/2025/04/PCB-TRIVIA-NIGHT-FBGRAPHIC-FEB-25-1.png
END:VEVENT
BEGIN:VEVENT
DTSTART;TZID=UTC:20251208T180000
DTEND;TZID=UTC:20251208T210000
DTSTAMP:20260420T092900
CREATED:20251203T201813Z
LAST-MODIFIED:20251203T202556Z
UID:933-1765216800-1765227600@parkcitybrewing.com
SUMMARY:MONDAY NIGHT FOOTBALL
DESCRIPTION:MONDAY NIGHT FOOTBALL
URL:https://parkcitybrewing.com/event/monday-night-football-4/
LOCATION:Park City Brewing\, 1764 Uinta Way C1\, Park City\, UT\, 84098
ATTACH;FMTTYPE=image/png:https://parkcitybrewing.com/wp-content/uploads/2025/11/MONDAY-NIGHT-FOOTBALL.png
END:VEVENT
BEGIN:VEVENT
DTSTART;TZID=UTC:20251203T183000
DTEND;TZID=UTC:20251203T210000
DTSTAMP:20260420T092900
CREATED:20251203T201444Z
LAST-MODIFIED:20251203T201444Z
UID:928-1764786600-1764795600@parkcitybrewing.com
SUMMARY:SHRED NIGHT W/ HOLISTIC SPIRITS!
DESCRIPTION:
URL:https://parkcitybrewing.com/event/shred-night-w-holistic-spirits/
LOCATION:Park City Brewing\, 1764 Uinta Way C1\, Park City\, UT\, 84098
ATTACH;FMTTYPE=image/png:https://parkcitybrewing.com/wp-content/uploads/2025/12/SHRED-NIGHTS-Presentation.png
END:VEVENT
BEGIN:VEVENT
DTSTART;TZID=UTC:20251126T183000
DTEND;TZID=UTC:20251126T203000
DTSTAMP:20260420T092900
CREATED:20251103T215147Z
LAST-MODIFIED:20251103T215147Z
UID:916-1764181800-1764189000@parkcitybrewing.com
SUMMARY:SHRED NIGHT!
DESCRIPTION:WATCH SOME RAD SKI MOVIES AND PLAY SOME GAMES EVERY WEDNESDAY!
URL:https://parkcitybrewing.com/event/shred-night-4/
LOCATION:Park City Brewing\, 1764 Uinta Way C1\, Park City\, UT\, 84098
ATTACH;FMTTYPE=image/png:https://parkcitybrewing.com/wp-content/uploads/2025/11/MONDAY-NIGHT-FOOTBALL-2.png
END:VEVENT
BEGIN:VEVENT
DTSTART;TZID=UTC:20251125T183000
DTEND;TZID=UTC:20251125T203000
DTSTAMP:20260420T092900
CREATED:20251103T214459Z
LAST-MODIFIED:20251103T214459Z
UID:911-1764095400-1764102600@parkcitybrewing.com
SUMMARY:TRIVIA TUESDAY
DESCRIPTION:
URL:https://parkcitybrewing.com/event/trivia-tuesday-4/
LOCATION:Park City Brewing\, 1764 Uinta Way C1\, Park City\, UT\, 84098
ATTACH;FMTTYPE=image/png:https://parkcitybrewing.com/wp-content/uploads/2025/04/PCB-TRIVIA-NIGHT-FBGRAPHIC-FEB-25-1.png
END:VEVENT
BEGIN:VEVENT
DTSTART;TZID=UTC:20251124T080000
DTEND;TZID=UTC:20251124T170000
DTSTAMP:20260420T092900
CREATED:20251103T213943Z
LAST-MODIFIED:20251103T213943Z
UID:907-1763971200-1764003600@parkcitybrewing.com
SUMMARY:MONDAY NIGHT FOOTBALL
DESCRIPTION:
URL:https://parkcitybrewing.com/event/monday-night-football-3/
LOCATION:Park City Brewing\, 1764 Uinta Way C1\, Park City\, UT\, 84098
ATTACH;FMTTYPE=image/png:https://parkcitybrewing.com/wp-content/uploads/2025/11/MONDAY-NIGHT-FOOTBALL.png
END:VEVENT
BEGIN:VEVENT
DTSTART;TZID=UTC:20251121T150000
DTEND;TZID=UTC:20251121T170000
DTSTAMP:20260420T092900
CREATED:20251103T215535Z
LAST-MODIFIED:20251103T215535Z
UID:922-1763737200-1763744400@parkcitybrewing.com
SUMMARY:APPY HOUR 15% OFF!
DESCRIPTION:
URL:https://parkcitybrewing.com/event/appy-hour-15-off-6/
LOCATION:Park City Brewing\, 1764 Uinta Way C1\, Park City\, UT\, 84098
ATTACH;FMTTYPE=image/png:https://parkcitybrewing.com/wp-content/uploads/2025/01/PCB-EVENT-PLANNER-DRINK-DEAL-4.png
END:VEVENT
BEGIN:VEVENT
DTSTART;TZID=UTC:20251120T150000
DTEND;TZID=UTC:20251120T170000
DTSTAMP:20260420T092900
CREATED:20251103T215503Z
LAST-MODIFIED:20251103T215503Z
UID:921-1763650800-1763658000@parkcitybrewing.com
SUMMARY:APPY HOUR 15% OFF!
DESCRIPTION:
URL:https://parkcitybrewing.com/event/appy-hour-15-off-5/
LOCATION:Park City Brewing\, 1764 Uinta Way C1\, Park City\, UT\, 84098
ATTACH;FMTTYPE=image/png:https://parkcitybrewing.com/wp-content/uploads/2025/01/PCB-EVENT-PLANNER-DRINK-DEAL-4.png
END:VEVENT
BEGIN:VEVENT
DTSTART;TZID=UTC:20251119T183000
DTEND;TZID=UTC:20251119T210000
DTSTAMP:20260420T092900
CREATED:20251103T215110Z
LAST-MODIFIED:20251103T215110Z
UID:915-1763577000-1763586000@parkcitybrewing.com
SUMMARY:SHRED NIGHT!
DESCRIPTION:WATCH SOME RAD SKI MOVIES AND PLAY SOME GAMES EVERY WEDNESDAY!
URL:https://parkcitybrewing.com/event/shred-night-3/
LOCATION:Park City Brewing\, 1764 Uinta Way C1\, Park City\, UT\, 84098
ATTACH;FMTTYPE=image/png:https://parkcitybrewing.com/wp-content/uploads/2025/11/MONDAY-NIGHT-FOOTBALL-2.png
END:VEVENT
BEGIN:VEVENT
DTSTART;TZID=UTC:20251118T183000
DTEND;TZID=UTC:20251118T203000
DTSTAMP:20260420T092900
CREATED:20251103T214344Z
LAST-MODIFIED:20251103T214344Z
UID:910-1763490600-1763497800@parkcitybrewing.com
SUMMARY:TRIVIA TUESDAY
DESCRIPTION:
URL:https://parkcitybrewing.com/event/trivia-tuesday-3/
LOCATION:Park City Brewing\, 1764 Uinta Way C1\, Park City\, UT\, 84098
ATTACH;FMTTYPE=image/png:https://parkcitybrewing.com/wp-content/uploads/2025/04/PCB-TRIVIA-NIGHT-FBGRAPHIC-FEB-25-1.png
END:VEVENT
BEGIN:VEVENT
DTSTART;TZID=UTC:20251117T180000
DTEND;TZID=UTC:20251117T203000
DTSTAMP:20260420T092900
CREATED:20251103T213909Z
LAST-MODIFIED:20251103T213909Z
UID:906-1763402400-1763411400@parkcitybrewing.com
SUMMARY:MONDAY NIGHT FOOTBALL
DESCRIPTION:
URL:https://parkcitybrewing.com/event/monday-night-football-2/
LOCATION:Park City Brewing\, 1764 Uinta Way C1\, Park City\, UT\, 84098
ATTACH;FMTTYPE=image/png:https://parkcitybrewing.com/wp-content/uploads/2025/11/MONDAY-NIGHT-FOOTBALL.png
END:VEVENT
BEGIN:VEVENT
DTSTART;TZID=UTC:20251114T150000
DTEND;TZID=UTC:20251114T170000
DTSTAMP:20260420T092900
CREATED:20251103T215436Z
LAST-MODIFIED:20251103T215436Z
UID:920-1763132400-1763139600@parkcitybrewing.com
SUMMARY:APPY HOUR 15% OFF!
DESCRIPTION:
URL:https://parkcitybrewing.com/event/appy-hour-15-off-4/
LOCATION:Park City Brewing\, 1764 Uinta Way C1\, Park City\, UT\, 84098
ATTACH;FMTTYPE=image/png:https://parkcitybrewing.com/wp-content/uploads/2025/01/PCB-EVENT-PLANNER-DRINK-DEAL-4.png
END:VEVENT
BEGIN:VEVENT
DTSTART;TZID=UTC:20251113T150000
DTEND;TZID=UTC:20251113T170000
DTSTAMP:20260420T092900
CREATED:20251103T215349Z
LAST-MODIFIED:20251103T215349Z
UID:919-1763046000-1763053200@parkcitybrewing.com
SUMMARY:APPY HOUR 15% OFF!
DESCRIPTION:
URL:https://parkcitybrewing.com/event/appy-hour-15-off-3/
LOCATION:Park City Brewing\, 1764 Uinta Way C1\, Park City\, UT\, 84098
ATTACH;FMTTYPE=image/png:https://parkcitybrewing.com/wp-content/uploads/2025/01/PCB-EVENT-PLANNER-DRINK-DEAL-4.png
END:VEVENT
BEGIN:VEVENT
DTSTART;TZID=UTC:20251112T183000
DTEND;TZID=UTC:20251112T203000
DTSTAMP:20260420T092900
CREATED:20251103T215039Z
LAST-MODIFIED:20251103T215039Z
UID:914-1762972200-1762979400@parkcitybrewing.com
SUMMARY:SHRED NIGHT!
DESCRIPTION:WATCH SOME RAD SKI MOVIES AND PLAY SOME GAMES EVERY WEDNESDAY!
URL:https://parkcitybrewing.com/event/shred-night-2/
LOCATION:Park City Brewing\, 1764 Uinta Way C1\, Park City\, UT\, 84098
ATTACH;FMTTYPE=image/png:https://parkcitybrewing.com/wp-content/uploads/2025/11/MONDAY-NIGHT-FOOTBALL-2.png
END:VEVENT
BEGIN:VEVENT
DTSTART;TZID=UTC:20251111T183000
DTEND;TZID=UTC:20251111T203000
DTSTAMP:20260420T092900
CREATED:20251103T214103Z
LAST-MODIFIED:20251103T214218Z
UID:909-1762885800-1762893000@parkcitybrewing.com
SUMMARY:TRIVIA TUESDAY
DESCRIPTION:
URL:https://parkcitybrewing.com/event/trivia-tuesday-2/
LOCATION:Park City Brewing\, 1764 Uinta Way C1\, Park City\, UT\, 84098
ATTACH;FMTTYPE=image/png:https://parkcitybrewing.com/wp-content/uploads/2025/04/PCB-TRIVIA-NIGHT-FBGRAPHIC-FEB-25-1.png
END:VEVENT
BEGIN:VEVENT
DTSTART;TZID=UTC:20251110T180000
DTEND;TZID=UTC:20251110T203000
DTSTAMP:20260420T092900
CREATED:20251103T213727Z
LAST-MODIFIED:20251103T213727Z
UID:904-1762797600-1762806600@parkcitybrewing.com
SUMMARY:Monday Night Football
DESCRIPTION:Catch the game with us every Monday night – see you soon!
URL:https://parkcitybrewing.com/event/monday-night-football/
LOCATION:Park City Brewing\, 1764 Uinta Way C1\, Park City\, UT\, 84098
ATTACH;FMTTYPE=image/png:https://parkcitybrewing.com/wp-content/uploads/2025/11/MONDAY-NIGHT-FOOTBALL.png
END:VEVENT
BEGIN:VEVENT
DTSTART;TZID=UTC:20251107T150000
DTEND;TZID=UTC:20251107T170000
DTSTAMP:20260420T092900
CREATED:20251103T215312Z
LAST-MODIFIED:20251103T215312Z
UID:918-1762527600-1762534800@parkcitybrewing.com
SUMMARY:APPY HOUR 15% OFF!
DESCRIPTION:
URL:https://parkcitybrewing.com/event/appy-hour-15-off-2/
LOCATION:Park City Brewing\, 1764 Uinta Way C1\, Park City\, UT\, 84098
ATTACH;FMTTYPE=image/png:https://parkcitybrewing.com/wp-content/uploads/2025/01/PCB-EVENT-PLANNER-DRINK-DEAL-4.png
END:VEVENT
BEGIN:VEVENT
DTSTART;TZID=UTC:20251106T150000
DTEND;TZID=UTC:20251106T170000
DTSTAMP:20260420T092900
CREATED:20251103T215249Z
LAST-MODIFIED:20251103T215249Z
UID:917-1762441200-1762448400@parkcitybrewing.com
SUMMARY:APPY HOUR 15% OFF!
DESCRIPTION:
URL:https://parkcitybrewing.com/event/appy-hour-15-off/
LOCATION:Park City Brewing\, 1764 Uinta Way C1\, Park City\, UT\, 84098
ATTACH;FMTTYPE=image/png:https://parkcitybrewing.com/wp-content/uploads/2025/01/PCB-EVENT-PLANNER-DRINK-DEAL-4.png
END:VEVENT
BEGIN:VEVENT
DTSTART;TZID=UTC:20251105T180000
DTEND;TZID=UTC:20251105T210000
DTSTAMP:20260420T092900
CREATED:20251103T214944Z
LAST-MODIFIED:20251103T214944Z
UID:912-1762365600-1762376400@parkcitybrewing.com
SUMMARY:SHRED NIGHT!
DESCRIPTION:WATCH SOME RAD SKI MOVIES AND PLAY SOME GAMES EVERY WEDNESDAY!
URL:https://parkcitybrewing.com/event/shred-night/
LOCATION:Park City Brewing\, 1764 Uinta Way C1\, Park City\, UT\, 84098
ATTACH;FMTTYPE=image/png:https://parkcitybrewing.com/wp-content/uploads/2025/11/MONDAY-NIGHT-FOOTBALL-2.png
END:VEVENT
BEGIN:VEVENT
DTSTART;TZID=UTC:20251104T183000
DTEND;TZID=UTC:20251104T220000
DTSTAMP:20260420T092900
CREATED:20251103T214024Z
LAST-MODIFIED:20251103T214024Z
UID:908-1762281000-1762293600@parkcitybrewing.com
SUMMARY:TRIVIA TUESDAY
DESCRIPTION:
URL:https://parkcitybrewing.com/event/trivia-tuesday/
LOCATION:Park City Brewing\, 1764 Uinta Way C1\, Park City\, UT\, 84098
ATTACH;FMTTYPE=image/png:https://parkcitybrewing.com/wp-content/uploads/2025/04/PCB-TRIVIA-NIGHT-FBGRAPHIC-FEB-25-1.png
END:VEVENT
BEGIN:VEVENT
DTSTART;TZID=UTC:20251031T150000
DTEND;TZID=UTC:20251031T170000
DTSTAMP:20260420T092900
CREATED:20251003T204326Z
LAST-MODIFIED:20251003T204326Z
UID:884-1761922800-1761930000@parkcitybrewing.com
SUMMARY:APPY HOUR – 15% OFF OF ALL APPS @ PARK CITY BREWING!
DESCRIPTION:APPY HOUR – 15% OFF OF ALL APPS @ PARK CITY BREWING!
URL:https://parkcitybrewing.com/event/appy-hour-15-off-of-all-apps-park-city-brewing-68/
LOCATION:Park City Brewing\, 1764 Uinta Way C1\, Park City\, UT\, 84098
ATTACH;FMTTYPE=image/png:https://parkcitybrewing.com/wp-content/uploads/2025/01/PCB-EVENT-PLANNER-DRINK-DEAL-4.png
END:VEVENT
BEGIN:VEVENT
DTSTART;TZID=UTC:20251030T150000
DTEND;TZID=UTC:20251030T170000
DTSTAMP:20260420T092900
CREATED:20251003T204116Z
LAST-MODIFIED:20251003T204116Z
UID:883-1761836400-1761843600@parkcitybrewing.com
SUMMARY:APPY HOUR – 15% OFF OF ALL APPS @ PARK CITY BREWING!
DESCRIPTION:APPY HOUR – 15% OFF OF ALL APPS @ PARK CITY BREWING!
URL:https://parkcitybrewing.com/event/appy-hour-15-off-of-all-apps-park-city-brewing-67/
LOCATION:Park City Brewing\, 1764 Uinta Way C1\, Park City\, UT\, 84098
ATTACH;FMTTYPE=image/png:https://parkcitybrewing.com/wp-content/uploads/2025/01/PCB-EVENT-PLANNER-DRINK-DEAL-4.png
END:VEVENT
BEGIN:VEVENT
DTSTART;TZID=UTC:20251029T183000
DTEND;TZID=UTC:20251029T210000
DTSTAMP:20260420T092900
CREATED:20251003T205823Z
LAST-MODIFIED:20251003T205823Z
UID:890-1761762600-1761771600@parkcitybrewing.com
SUMMARY:SHRED AND GAME NIGHT AT PARK CITY BREWING!
DESCRIPTION:SHRED AND GAME NIGHT AT PARK CITY BREWING!
URL:https://parkcitybrewing.com/event/shred-and-game-night-at-park-city-brewing-4/
LOCATION:Park City Brewing\, 1764 Uinta Way C1\, Park City\, UT\, 84098
ATTACH;FMTTYPE=image/png:https://parkcitybrewing.com/wp-content/uploads/2025/04/Screenshot-2025-04-06-at-9.17.42 AM.png
END:VEVENT
BEGIN:VEVENT
DTSTART;VALUE=DATE:20251027
DTEND;VALUE=DATE:20251028
DTSTAMP:20260420T092900
CREATED:20251003T211202Z
LAST-MODIFIED:20251003T211202Z
UID:896-1761523200-1761609599@parkcitybrewing.com
SUMMARY:HOOKER BLONDE $5 PINT / $18 PITCHER AT PARK CITY BREWING!
DESCRIPTION:HOOKER BLONDE $5 PINT / $18 PITCHER AT PARK CITY BREWING!
URL:https://parkcitybrewing.com/event/hooker-blonde-5-pint-18-pitcher-at-park-city-brewing-68/
LOCATION:Park City Brewing\, 1764 Uinta Way C1\, Park City\, UT\, 84098
ATTACH;FMTTYPE=image/jpeg:https://parkcitybrewing.com/wp-content/uploads/2024/09/IMG_0247-scaled.jpg
END:VEVENT
END:VCALENDAR